Package: scGPS Version: 1.20.0 Command: /home/biocbuild/bbs-3.20-bioc/R/bin/R CMD check --install=check:scGPS.install-out.txt --library=/home/biocbuild/bbs-3.20-bioc/R/site-library --timings scGPS_1.20.0.tar.gz StartedAt: 2024-11-20 09:11:47 -0500 (Wed, 20 Nov 2024) EndedAt: 2024-11-20 09:21:22 -0500 (Wed, 20 Nov 2024) EllapsedTime: 575.1 seconds RetCode: 0 Status: OK CheckDir: scGPS.Rcheck Warnings: 0