Package: scGPS Version: 1.20.0 Command: /home/biocbuild/R/R/bin/R CMD INSTALL scGPS StartedAt: 2025-01-27 21:52:48 -0000 (Mon, 27 Jan 2025) EndedAt: 2025-01-27 21:54:05 -0000 (Mon, 27 Jan 2025) EllapsedTime: 76.4 seconds RetCode: 0 Status: OK