Package: scGPS Version: 1.20.0 Command: /Library/Frameworks/R.framework/Resources/bin/R CMD check --install=check:scGPS.install-out.txt --library=/Library/Frameworks/R.framework/Resources/library --no-vignettes --timings scGPS_1.20.0.tar.gz StartedAt: 2025-01-28 09:51:00 -0500 (Tue, 28 Jan 2025) EndedAt: 2025-01-28 10:05:45 -0500 (Tue, 28 Jan 2025) EllapsedTime: 885.2 seconds RetCode: 0 Status: OK CheckDir: scGPS.Rcheck Warnings: 0