Package: scGPS Version: 1.20.0 Command: /home/biocbuild/R/R/bin/R CMD INSTALL scGPS StartedAt: 2024-11-19 21:19:39 -0000 (Tue, 19 Nov 2024) EndedAt: 2024-11-19 21:21:10 -0000 (Tue, 19 Nov 2024) EllapsedTime: 90.5 seconds RetCode: 0 Status: OK