Package: scGPS Version: 1.20.0 Command: /Library/Frameworks/R.framework/Resources/bin/R CMD check --install=check:scGPS.install-out.txt --library=/Library/Frameworks/R.framework/Resources/library --no-vignettes --timings scGPS_1.20.0.tar.gz StartedAt: 2025-04-02 07:46:36 -0400 (Wed, 02 Apr 2025) EndedAt: 2025-04-02 07:54:11 -0400 (Wed, 02 Apr 2025) EllapsedTime: 455.5 seconds RetCode: 0 Status: OK CheckDir: scGPS.Rcheck Warnings: 0