Package: scFeatures Version: 1.6.0 Command: F:\biocbuild\bbs-3.20-bioc\R\bin\R.exe CMD INSTALL scFeatures StartedAt: 2025-03-31 16:57:48 -0400 (Mon, 31 Mar 2025) EndedAt: 2025-03-31 16:59:07 -0400 (Mon, 31 Mar 2025) EllapsedTime: 78.6 seconds RetCode: 0 Status: OK