Package: scDotPlot Version: 1.0.0 Command: /home/biocbuild/R/R/bin/R CMD build --keep-empty-dirs --no-resave-data scDotPlot StartedAt: 2025-04-01 02:25:13 -0000 (Tue, 01 Apr 2025) EndedAt: 2025-04-01 02:27:16 -0000 (Tue, 01 Apr 2025) EllapsedTime: 122.2 seconds RetCode: 0 Status: OK PackageFile: scDotPlot_1.0.0.tar.gz PackageFileSize: 927.8 KiB