Package: scDotPlot Version: 1.0.0 Command: chmod a+r scDotPlot -R && F:\biocbuild\bbs-3.20-bioc\R\bin\R.exe CMD build --keep-empty-dirs --no-resave-data scDotPlot StartedAt: 2025-01-27 21:44:11 -0500 (Mon, 27 Jan 2025) EndedAt: 2025-01-27 21:46:32 -0500 (Mon, 27 Jan 2025) EllapsedTime: 141.7 seconds RetCode: 0 Status: OK PackageFile: scDotPlot_1.0.0.tar.gz PackageFileSize: 670.1 KiB