Package: scDotPlot Version: 1.0.0 Command: rm -rf scDotPlot.buildbin-libdir && mkdir scDotPlot.buildbin-libdir && F:\biocbuild\bbs-3.20-bioc\R\bin\R.exe CMD INSTALL --build --library=scDotPlot.buildbin-libdir scDotPlot_1.0.0.tar.gz StartedAt: 2025-02-04 09:27:13 -0500 (Tue, 04 Feb 2025) EndedAt: 2025-02-04 09:28:01 -0500 (Tue, 04 Feb 2025) EllapsedTime: 47.9 seconds RetCode: 0 Status: OK PackageFile: scDotPlot_1.0.0.zip PackageFileSize: 702.5 KiB