Package: scDotPlot Version: 1.0.0 Command: /home/biocbuild/bbs-3.20-bioc/R/bin/R CMD build --keep-empty-dirs --no-resave-data --md5 scDotPlot StartedAt: 2025-03-31 18:58:13 -0400 (Mon, 31 Mar 2025) EndedAt: 2025-03-31 18:59:49 -0400 (Mon, 31 Mar 2025) EllapsedTime: 96.1 seconds RetCode: 0 Status: OK PackageFile: scDotPlot_1.0.0.tar.gz PackageFileSize: 1.832 MiB