Package: scDotPlot Version: 1.0.0 Command: /Library/Frameworks/R.framework/Resources/bin/R CMD INSTALL scDotPlot StartedAt: 2025-01-27 18:20:04 -0500 (Mon, 27 Jan 2025) EndedAt: 2025-01-27 18:20:51 -0500 (Mon, 27 Jan 2025) EllapsedTime: 46.5 seconds RetCode: 0 Status: OK