Package: scDotPlot Version: 1.0.0 Command: /Library/Frameworks/R.framework/Resources/bin/R CMD build --keep-empty-dirs --no-resave-data scDotPlot StartedAt: 2025-01-28 07:18:30 -0500 (Tue, 28 Jan 2025) EndedAt: 2025-01-28 07:20:13 -0500 (Tue, 28 Jan 2025) EllapsedTime: 102.6 seconds RetCode: 0 Status: OK PackageFile: scDotPlot_1.0.0.tar.gz PackageFileSize: 1.954 MiB