Package: scDotPlot Version: 1.0.0 Command: rm -rf scDotPlot.buildbin-libdir && mkdir scDotPlot.buildbin-libdir && /Users/biocbuild/BBS/utils/build-universal.sh scDotPlot_1.0.0.tar.gz /Library/Frameworks/R.framework/Resources/bin/R scDotPlot.buildbin-libdir StartedAt: 2025-02-05 17:40:18 -0500 (Wed, 05 Feb 2025) EndedAt: 2025-02-05 17:41:07 -0500 (Wed, 05 Feb 2025) EllapsedTime: 48.8 seconds RetCode: 0 Status: OK PackageFile: scDotPlot_1.0.0.tgz PackageFileSize: 1.983 MiB