Package: scDiagnostics Version: 1.0.0 Command: /home/biocbuild/R/R/bin/R CMD build --keep-empty-dirs --no-resave-data scDiagnostics StartedAt: 2025-01-31 02:27:06 -0000 (Fri, 31 Jan 2025) EndedAt: 2025-01-31 02:33:21 -0000 (Fri, 31 Jan 2025) EllapsedTime: 375.5 seconds RetCode: 0 Status: OK PackageFile: scDiagnostics_1.0.0.tar.gz PackageFileSize: 3.875 MiB