Package: scDiagnostics Version: 1.0.0 Command: /Library/Frameworks/R.framework/Resources/bin/R CMD build --keep-empty-dirs --no-resave-data scDiagnostics StartedAt: 2025-03-31 21:44:04 -0400 (Mon, 31 Mar 2025) EndedAt: 2025-03-31 21:51:00 -0400 (Mon, 31 Mar 2025) EllapsedTime: 416.8 seconds RetCode: 0 Status: OK PackageFile: scDiagnostics_1.0.0.tar.gz PackageFileSize: 3.62 MiB