Package: scDesign3 Version: 1.4.0 Command: /Library/Frameworks/R.framework/Resources/bin/R CMD check --install=check:scDesign3.install-out.txt --library=/Library/Frameworks/R.framework/Resources/library --no-vignettes --timings scDesign3_1.4.0.tar.gz StartedAt: 2025-04-02 07:41:35 -0400 (Wed, 02 Apr 2025) EndedAt: 2025-04-02 07:44:30 -0400 (Wed, 02 Apr 2025) EllapsedTime: 175.4 seconds RetCode: 0 Status: OK CheckDir: scDesign3.Rcheck Warnings: 0