Package: scDblFinder Version: 1.20.2 Command: /home/biocbuild/R/R/bin/R CMD INSTALL scDblFinder StartedAt: 2025-03-31 21:04:15 -0000 (Mon, 31 Mar 2025) EndedAt: 2025-03-31 21:05:05 -0000 (Mon, 31 Mar 2025) EllapsedTime: 50.0 seconds RetCode: 0 Status: OK