Package: scDblFinder Version: 1.20.0 Command: rm -rf scDblFinder.buildbin-libdir && mkdir scDblFinder.buildbin-libdir && F:\biocbuild\bbs-3.20-bioc\R\bin\R.exe CMD INSTALL --build --library=scDblFinder.buildbin-libdir scDblFinder_1.20.0.tar.gz StartedAt: 2025-01-28 09:04:55 -0500 (Tue, 28 Jan 2025) EndedAt: 2025-01-28 09:06:01 -0500 (Tue, 28 Jan 2025) EllapsedTime: 65.6 seconds RetCode: 0 Status: OK PackageFile: scDblFinder_1.20.0.zip PackageFileSize: 2.054 MiB