Package: scDblFinder Version: 1.20.0 Command: /home/biocbuild/bbs-3.20-bioc/R/bin/R CMD check --install=check:scDblFinder.install-out.txt --library=/home/biocbuild/bbs-3.20-bioc/R/site-library --timings scDblFinder_1.20.0.tar.gz StartedAt: 2025-01-28 02:53:02 -0500 (Tue, 28 Jan 2025) EndedAt: 2025-01-28 03:01:16 -0500 (Tue, 28 Jan 2025) EllapsedTime: 493.8 seconds RetCode: 0 Status: OK CheckDir: scDblFinder.Rcheck Warnings: 0