Package: scDblFinder Version: 1.20.0 Command: /home/biocbuild/bbs-3.20-bioc/R/bin/R CMD build --keep-empty-dirs --no-resave-data --md5 scDblFinder StartedAt: 2025-01-27 19:55:10 -0500 (Mon, 27 Jan 2025) EndedAt: 2025-01-27 19:57:25 -0500 (Mon, 27 Jan 2025) EllapsedTime: 135.1 seconds RetCode: 0 Status: OK PackageFile: scDblFinder_1.20.0.tar.gz PackageFileSize: 2.185 MiB