Package: scDblFinder Version: 1.20.0 Command: /Library/Frameworks/R.framework/Resources/bin/R CMD build --keep-empty-dirs --no-resave-data scDblFinder StartedAt: 2025-01-27 22:17:18 -0500 (Mon, 27 Jan 2025) EndedAt: 2025-01-27 22:22:46 -0500 (Mon, 27 Jan 2025) EllapsedTime: 328.2 seconds RetCode: 0 Status: OK PackageFile: scDblFinder_1.20.0.tar.gz PackageFileSize: 2.248 MiB