Package: scDblFinder Version: 1.20.2 Command: /Library/Frameworks/R.framework/Resources/bin/R CMD INSTALL scDblFinder StartedAt: 2025-03-31 17:45:43 -0400 (Mon, 31 Mar 2025) EndedAt: 2025-03-31 17:46:30 -0400 (Mon, 31 Mar 2025) EllapsedTime: 47.4 seconds RetCode: 0 Status: OK