Package: scDblFinder Version: 1.20.0 Command: rm -rf scDblFinder.buildbin-libdir && mkdir scDblFinder.buildbin-libdir && /Users/biocbuild/BBS/utils/build-universal.sh scDblFinder_1.20.0.tar.gz /Library/Frameworks/R.framework/Resources/bin/R scDblFinder.buildbin-libdir StartedAt: 2025-01-29 16:27:14 -0500 (Wed, 29 Jan 2025) EndedAt: 2025-01-29 16:28:08 -0500 (Wed, 29 Jan 2025) EllapsedTime: 53.8 seconds RetCode: 0 Status: OK PackageFile: scDblFinder_1.20.0.tgz PackageFileSize: 2.429 MiB