Package: scDataviz Version: 1.16.0 Command: rm -rf scDataviz.buildbin-libdir && mkdir scDataviz.buildbin-libdir && /Users/biocbuild/BBS/utils/build-universal.sh scDataviz_1.16.0.tar.gz /Library/Frameworks/R.framework/Resources/bin/R scDataviz.buildbin-libdir StartedAt: 2025-01-28 14:29:31 -0500 (Tue, 28 Jan 2025) EndedAt: 2025-01-28 14:31:21 -0500 (Tue, 28 Jan 2025) EllapsedTime: 110.1 seconds RetCode: 0 Status: OK PackageFile: scDataviz_1.16.0.tgz PackageFileSize: 5.892 MiB