Package: scDDboost Version: 1.8.0 Command: chmod a+r scDDboost -R && F:\biocbuild\bbs-3.20-bioc\R\bin\R.exe CMD build --keep-empty-dirs --no-resave-data scDDboost StartedAt: 2025-01-27 21:43:44 -0500 (Mon, 27 Jan 2025) EndedAt: 2025-01-27 21:44:18 -0500 (Mon, 27 Jan 2025) EllapsedTime: 34.0 seconds RetCode: 1 Status: ERROR PackageFile: None PackageFileSize: NA