Package: scDDboost Version: 1.8.0 Command: /home/biocbuild/bbs-3.20-bioc/R/bin/R CMD INSTALL scDDboost StartedAt: 2025-01-27 16:32:56 -0500 (Mon, 27 Jan 2025) EndedAt: 2025-01-27 16:33:12 -0500 (Mon, 27 Jan 2025) EllapsedTime: 15.7 seconds RetCode: 1 Status: ERROR