Package: scDDboost Version: 1.8.1 Command: /Library/Frameworks/R.framework/Resources/bin/R CMD check --install=check:scDDboost.install-out.txt --library=/Library/Frameworks/R.framework/Resources/library --no-vignettes --timings scDDboost_1.8.1.tar.gz StartedAt: 2025-04-01 08:39:28 -0400 (Tue, 01 Apr 2025) EndedAt: 2025-04-01 08:48:03 -0400 (Tue, 01 Apr 2025) EllapsedTime: 514.2 seconds RetCode: 0 Status: OK CheckDir: scDDboost.Rcheck Warnings: 0