Package: scDDboost Version: 1.8.1 Command: rm -rf scDDboost.buildbin-libdir && mkdir scDDboost.buildbin-libdir && /Users/biocbuild/BBS/utils/build-universal.sh scDDboost_1.8.1.tar.gz /Library/Frameworks/R.framework/Resources/bin/R scDDboost.buildbin-libdir StartedAt: 2025-04-01 12:42:05 -0400 (Tue, 01 Apr 2025) EndedAt: 2025-04-01 12:44:11 -0400 (Tue, 01 Apr 2025) EllapsedTime: 126.2 seconds RetCode: 0 Status: OK PackageFile: scDDboost_1.8.1.tgz PackageFileSize: 994.2 KiB