Package: scDDboost Version: 1.8.0 Command: /Library/Frameworks/R.framework/Resources/bin/R CMD build --keep-empty-dirs --no-resave-data scDDboost StartedAt: 2025-02-04 07:28:19 -0500 (Tue, 04 Feb 2025) EndedAt: 2025-02-04 07:28:35 -0500 (Tue, 04 Feb 2025) EllapsedTime: 16.1 seconds RetCode: 1 Status: ERROR PackageFile: None PackageFileSize: NA