Package: scDD Version: 1.30.0 Command: /home/biocbuild/R/R/bin/R CMD INSTALL scDD StartedAt: 2025-01-27 21:58:25 -0000 (Mon, 27 Jan 2025) EndedAt: 2025-01-27 21:58:26 -0000 (Mon, 27 Jan 2025) EllapsedTime: 1.2 seconds RetCode: 1 Status: ERROR