Package: scDD Version: 1.30.0 Command: F:\biocbuild\bbs-3.20-bioc\R\bin\R.exe CMD INSTALL scDD StartedAt: 2025-01-27 16:56:35 -0500 (Mon, 27 Jan 2025) EndedAt: 2025-01-27 16:57:17 -0500 (Mon, 27 Jan 2025) EllapsedTime: 41.9 seconds RetCode: 0 Status: OK