Package: scDD Version: 1.30.0 Command: /home/biocbuild/bbs-3.20-bioc/R/bin/R CMD INSTALL scDD StartedAt: 2025-01-27 16:47:55 -0500 (Mon, 27 Jan 2025) EndedAt: 2025-01-27 16:48:35 -0500 (Mon, 27 Jan 2025) EllapsedTime: 40.3 seconds RetCode: 0 Status: OK