Package: scDD Version: 1.30.0 Command: /Library/Frameworks/R.framework/Resources/bin/R CMD INSTALL scDD StartedAt: 2025-01-27 17:56:18 -0500 (Mon, 27 Jan 2025) EndedAt: 2025-01-27 17:56:57 -0500 (Mon, 27 Jan 2025) EllapsedTime: 38.5 seconds RetCode: 0 Status: OK