Package: scCB2 Version: 1.16.0 Command: /home/biocbuild/R/R/bin/R CMD check --install=check:scCB2.install-out.txt --library=/home/biocbuild/R/R/site-library --no-vignettes --timings scCB2_1.16.0.tar.gz StartedAt: 2025-01-31 10:06:30 -0000 (Fri, 31 Jan 2025) EndedAt: 2025-01-31 10:15:02 -0000 (Fri, 31 Jan 2025) EllapsedTime: 511.3 seconds RetCode: 0 Status: OK CheckDir: scCB2.Rcheck Warnings: 0