Package: scCB2 Version: 1.16.0 Command: rm -rf scCB2.buildbin-libdir && mkdir scCB2.buildbin-libdir && /Users/biocbuild/BBS/utils/build-universal.sh scCB2_1.16.0.tar.gz /Library/Frameworks/R.framework/Resources/bin/R scCB2.buildbin-libdir StartedAt: 2025-01-31 13:37:37 -0500 (Fri, 31 Jan 2025) EndedAt: 2025-01-31 13:39:07 -0500 (Fri, 31 Jan 2025) EllapsedTime: 89.6 seconds RetCode: 0 Status: OK PackageFile: scCB2_1.16.0.tgz PackageFileSize: 888 KiB