Package: scCB2 Version: 1.16.0 Command: /Library/Frameworks/R.framework/Resources/bin/R CMD INSTALL scCB2 StartedAt: 2025-01-27 17:22:18 -0500 (Mon, 27 Jan 2025) EndedAt: 2025-01-27 17:23:02 -0500 (Mon, 27 Jan 2025) EllapsedTime: 43.9 seconds RetCode: 0 Status: OK