Package: scCB2 Version: 1.16.0 Command: /Library/Frameworks/R.framework/Resources/bin/R CMD build --keep-empty-dirs --no-resave-data scCB2 StartedAt: 2025-04-01 06:57:21 -0400 (Tue, 01 Apr 2025) EndedAt: 2025-04-01 07:01:12 -0400 (Tue, 01 Apr 2025) EllapsedTime: 231.3 seconds RetCode: 0 Status: OK PackageFile: scCB2_1.16.0.tar.gz PackageFileSize: 847.2 KiB