Package: scBubbletree Version: 1.8.0 Command: /home/biocbuild/R/R/bin/R CMD build --keep-empty-dirs --no-resave-data scBubbletree StartedAt: 2025-01-28 03:04:45 -0000 (Tue, 28 Jan 2025) EndedAt: 2025-01-28 03:11:45 -0000 (Tue, 28 Jan 2025) EllapsedTime: 420.4 seconds RetCode: 0 Status: OK PackageFile: scBubbletree_1.8.0.tar.gz PackageFileSize: 3.959 MiB