Package: scBubbletree Version: 1.8.0 Command: /home/biocbuild/bbs-3.20-bioc/R/bin/R CMD check --install=check:scBubbletree.install-out.txt --library=/home/biocbuild/bbs-3.20-bioc/R/site-library --timings scBubbletree_1.8.0.tar.gz StartedAt: 2025-04-01 01:52:33 -0400 (Tue, 01 Apr 2025) EndedAt: 2025-04-01 02:05:57 -0400 (Tue, 01 Apr 2025) EllapsedTime: 804.5 seconds RetCode: 0 Status: OK CheckDir: scBubbletree.Rcheck Warnings: 0