Package: scBubbletree Version: 1.8.0 Command: /home/biocbuild/bbs-3.20-bioc/R/bin/R CMD build --keep-empty-dirs --no-resave-data --md5 scBubbletree StartedAt: 2025-02-03 19:09:04 -0500 (Mon, 03 Feb 2025) EndedAt: 2025-02-03 19:14:05 -0500 (Mon, 03 Feb 2025) EllapsedTime: 301.3 seconds RetCode: 0 Status: OK PackageFile: scBubbletree_1.8.0.tar.gz PackageFileSize: 4.657 MiB