Package: scBubbletree Version: 1.8.0 Command: /Library/Frameworks/R.framework/Resources/bin/R CMD build --keep-empty-dirs --no-resave-data scBubbletree StartedAt: 2025-01-27 22:16:28 -0500 (Mon, 27 Jan 2025) EndedAt: 2025-01-27 22:27:38 -0500 (Mon, 27 Jan 2025) EllapsedTime: 669.2 seconds RetCode: 0 Status: OK PackageFile: scBubbletree_1.8.0.tar.gz PackageFileSize: 4.429 MiB