Package: scBFA Version: 1.20.0 Command: /home/biocbuild/R/R/bin/R CMD INSTALL scBFA StartedAt: 2025-01-27 21:49:31 -0000 (Mon, 27 Jan 2025) EndedAt: 2025-01-27 21:50:27 -0000 (Mon, 27 Jan 2025) EllapsedTime: 56.8 seconds RetCode: 0 Status: OK