Package: scBFA Version: 1.20.0 Command: F:\biocbuild\bbs-3.20-bioc\R\bin\R.exe CMD INSTALL scBFA StartedAt: 2025-01-27 16:43:09 -0500 (Mon, 27 Jan 2025) EndedAt: 2025-01-27 16:44:02 -0500 (Mon, 27 Jan 2025) EllapsedTime: 52.5 seconds RetCode: 0 Status: OK