Package: scBFA Version: 1.20.0 Command: rm -rf scBFA.buildbin-libdir && mkdir scBFA.buildbin-libdir && F:\biocbuild\bbs-3.20-bioc\R\bin\R.exe CMD INSTALL --build --library=scBFA.buildbin-libdir scBFA_1.20.0.tar.gz StartedAt: 2025-02-04 09:26:46 -0500 (Tue, 04 Feb 2025) EndedAt: 2025-02-04 09:27:48 -0500 (Tue, 04 Feb 2025) EllapsedTime: 62.5 seconds RetCode: 0 Status: OK PackageFile: scBFA_1.20.0.zip PackageFileSize: 1004 KiB