Package: scBFA Version: 1.20.0 Command: rm -rf scBFA.buildbin-libdir && mkdir scBFA.buildbin-libdir && /Users/biocbuild/BBS/utils/build-universal.sh scBFA_1.20.0.tar.gz /Library/Frameworks/R.framework/Resources/bin/R scBFA.buildbin-libdir StartedAt: 2024-11-09 17:10:12 -0500 (Sat, 09 Nov 2024) EndedAt: 2024-11-09 17:10:31 -0500 (Sat, 09 Nov 2024) EllapsedTime: 19.3 seconds RetCode: 0 Status: OK PackageFile: scBFA_1.20.0.tgz PackageFileSize: 1.284 MiB