Package: scBFA Version: 1.20.0 Command: /Library/Frameworks/R.framework/Resources/bin/R CMD check --install=check:scBFA.install-out.txt --library=/Library/Frameworks/R.framework/Resources/library --no-vignettes --timings scBFA_1.20.0.tar.gz StartedAt: 2025-01-29 07:50:37 -0500 (Wed, 29 Jan 2025) EndedAt: 2025-01-29 07:56:56 -0500 (Wed, 29 Jan 2025) EllapsedTime: 379.9 seconds RetCode: 0 Status: OK CheckDir: scBFA.Rcheck Warnings: 0