Package: scBFA Version: 1.20.0 Command: /Library/Frameworks/R.framework/Resources/bin/R CMD build --keep-empty-dirs --no-resave-data scBFA StartedAt: 2025-01-28 07:10:56 -0500 (Tue, 28 Jan 2025) EndedAt: 2025-01-28 07:12:37 -0500 (Tue, 28 Jan 2025) EllapsedTime: 100.4 seconds RetCode: 0 Status: OK PackageFile: scBFA_1.20.0.tar.gz PackageFileSize: 1.212 MiB