Package: scAnnotatR Version: 1.12.0 Command: /home/biocbuild/R/R/bin/R CMD build --keep-empty-dirs --no-resave-data scAnnotatR StartedAt: 2025-04-01 02:21:01 -0000 (Tue, 01 Apr 2025) EndedAt: 2025-04-01 02:32:23 -0000 (Tue, 01 Apr 2025) EllapsedTime: 681.7 seconds RetCode: 0 Status: OK PackageFile: scAnnotatR_1.12.0.tar.gz PackageFileSize: 503.1 KiB