Package: scAnnotatR Version: 1.12.0 Command: F:\biocbuild\bbs-3.20-bioc\R\bin\R.exe CMD check --no-multiarch --install=check:scAnnotatR.install-out.txt --library=F:\biocbuild\bbs-3.20-bioc\R\library --no-vignettes --timings scAnnotatR_1.12.0.tar.gz StartedAt: 2025-01-28 05:34:57 -0500 (Tue, 28 Jan 2025) EndedAt: 2025-01-28 05:42:51 -0500 (Tue, 28 Jan 2025) EllapsedTime: 474.2 seconds RetCode: 0 Status: WARNINGS CheckDir: scAnnotatR.Rcheck Warnings: 1