Package: scAnnotatR Version: 1.12.0 Command: /Library/Frameworks/R.framework/Resources/bin/R CMD build --keep-empty-dirs --no-resave-data scAnnotatR StartedAt: 2025-01-27 22:14:02 -0500 (Mon, 27 Jan 2025) EndedAt: 2025-01-27 22:32:16 -0500 (Mon, 27 Jan 2025) EllapsedTime: 1093.4 seconds RetCode: 0 Status: OK PackageFile: scAnnotatR_1.12.0.tar.gz PackageFileSize: 580.9 KiB